BEGIN:VCALENDAR
VERSION:2.0
PRODID:icalendar-ruby
CALSCALE:GREGORIAN
METHOD:PUBLISH
BEGIN:VEVENT
DTSTAMP:20260424T145758Z
UID:385-4102689@westonparkbaptist.org
DTSTART:20260507T230000Z
DTEND:20260508T003000Z
CLASS:PUBLIC
CREATED:20260423T153232
DESCRIPTION:If you would like to find out more\, please speak to Rebecca Da
 vey.
LAST-MODIFIED:20260423T153232
LOCATION:Weston Park Baptist Church - Pelmo room
SUMMARY:Writer's Group
URL;VALUE=URI:https://www.westonparkbaptist.org/events/writers-group--385/2
 026-05-07
ATTACH;FILENAME=writers_group.png;FMTTYPE=image/png:https://dq5pwpg1q8ru0.c
 loudfront.net/2026/04/10/14/16/39/2801a4a2-4f90-41e5-b398-8b5bec7af0a2/wri
 ters_group.png
END:VEVENT
END:VCALENDAR
