BEGIN:VCALENDAR
VERSION:2.0
PRODID:icalendar-ruby
CALSCALE:GREGORIAN
METHOD:PUBLISH
BEGIN:VEVENT
DTSTAMP:20260420T134016Z
UID:382-4014641@westonparkbaptist.org
DTSTART:20260530T120000Z
DTEND:20260530T190000Z
CLASS:PUBLIC
CREATED:20260417T150521
DESCRIPTION:
LAST-MODIFIED:20260417T150521
LOCATION:
SUMMARY:WPBC Golf Tournament
URL;VALUE=URI:https://www.westonparkbaptist.org/events/wpbc-golf-tournament
 /2026-05-30
ATTACH;FILENAME=markus-spiske-wn35CKouahQ-unsplash.jpg;FMTTYPE=image/jpeg:h
 ttps://dq5pwpg1q8ru0.cloudfront.net/2026/04/09/18/18/59/413620b7-0610-4fab
 -9ef5-e07569e98e44/markus-spiske-wn35CKouahQ-unsplash.jpg
ATTACH;FILENAME=golf fore kidz (1).png;FMTTYPE=image/png:https://dq5pwpg1q8
 ru0.cloudfront.net/2026/04/17/19/05/21/69ce07d1-d605-4f27-9cb5-8bd149b856e
 f/golf%20fore%20kidz%20(1).png
END:VEVENT
END:VCALENDAR
