BEGIN:VCALENDAR
VERSION:2.0
PRODID:icalendar-ruby
CALSCALE:GREGORIAN
METHOD:PUBLISH
BEGIN:VEVENT
DTSTAMP:20260423T114936Z
UID:240-4094866@westonparkbaptist.org
DTSTART:20261101T154500Z
DTEND:20261101T170000Z
CLASS:PUBLIC
CREATED:20260423T061404
DESCRIPTION:
LAST-MODIFIED:20260423T061404
LOCATION:1871 Weston Rd.
SUMMARY:Worship Together
URL;VALUE=URI:https://www.westonparkbaptist.org/events/worship-together--24
 0/2026-11-01
ATTACH;FILENAME=worship with us.png;FMTTYPE=image/png:https://dq5pwpg1q8ru0
 .cloudfront.net/2024/04/30/18/18/09/3f2729e5-a2f9-473b-99c8-4de624532fbe/w
 orship%20with%20us.png
END:VEVENT
END:VCALENDAR
