BEGIN:VCALENDAR
VERSION:2.0
PRODID:icalendar-ruby
CALSCALE:GREGORIAN
METHOD:PUBLISH
BEGIN:VEVENT
DTSTAMP:20260421T120150Z
UID:315-3995114@westonparkbaptist.org
DTSTART:20260628T144500Z
DTEND:20260628T154500Z
CLASS:PUBLIC
CREATED:20260416T101210
DESCRIPTION:If you are interested in being baptised\, please speak to one o
 f the pastors or deacons or email tom.leroy@westonparkbaptist.org.\n
LAST-MODIFIED:20260416T101210
LOCATION:
SUMMARY:Baptism Service
URL;VALUE=URI:https://www.westonparkbaptist.org/events/baptism-service--315
 /2026-06-28
ATTACH;FILENAME=baptism banner.png;FMTTYPE=image/png:https://dq5pwpg1q8ru0.
 cloudfront.net/2026/04/16/14/11/21/84247d54-0cb1-4a6f-a904-28b7dacd3d2e/ba
 ptism%20banner.png
ATTACH;FILENAME=water ripple.jpg;FMTTYPE=image/jpeg:https://dq5pwpg1q8ru0.c
 loudfront.net/2024/05/29/15/48/21/91d42762-5e3f-4b97-a7a5-f13a0b52e9d9/wat
 er%20ripple.jpg
END:VEVENT
END:VCALENDAR
